BEGIN:VCALENDAR
VERSION:2.0
PRODID:-//Sit Stay &#039;n Play - ECPv6.7.0//NONSGML v1.0//EN
CALSCALE:GREGORIAN
METHOD:PUBLISH
X-ORIGINAL-URL:https://sitstaynplay.net
X-WR-CALDESC:Events for Sit Stay &#039;n Play
REFRESH-INTERVAL;VALUE=DURATION:PT1H
X-Robots-Tag:noindex
X-PUBLISHED-TTL:PT1H
BEGIN:VTIMEZONE
TZID:America/New_York
BEGIN:DAYLIGHT
TZOFFSETFROM:-0500
TZOFFSETTO:-0400
TZNAME:EDT
DTSTART:20260308T070000
END:DAYLIGHT
BEGIN:STANDARD
TZOFFSETFROM:-0400
TZOFFSETTO:-0500
TZNAME:EST
DTSTART:20261101T060000
END:STANDARD
END:VTIMEZONE
BEGIN:VEVENT
DTSTART;TZID=America/New_York:20260202T180000
DTEND;TZID=America/New_York:20260202T200000
DTSTAMP:20260419T090650
CREATED:20251201T154905Z
LAST-MODIFIED:20251201T162019Z
UID:10000292-1770055200-1770062400@sitstaynplay.net
SUMMARY:Agility Run Thru's
DESCRIPTION:Give your dog a little extra time to shine. \nOur Open Agility sessions offer a relaxed\, supportive space for guests who want to practice at their own pace\, whether you’re gearing up for an upcoming trial or simply enjoying the fun of running a course together. \nYou’ll have access to our regulation-level equipment\, a clean\, climate-controlled indoor space\, and the freedom to focus on whatever skills matter most to you and your dog. No pressure\, just joyful learning\, confidence-building\, and plenty of tail-wagging wins. \nCome enjoy extra ring time\, strengthen your teamwork\, and celebrate every milestone… because you’ve got the best dog. \nSign -up here: Agility Run Thru’s
URL:https://sitstaynplay.net/event/agility-run-thru/
CATEGORIES:Agility,Agility Run-Thru,In House
ATTACH;FMTTYPE=image/jpeg:https://sitstaynplay.net/wp-content/uploads/5.jpg
END:VEVENT
BEGIN:VEVENT
DTSTART;TZID=America/New_York:20260216T181500
DTEND;TZID=America/New_York:20260216T200000
DTSTAMP:20260419T090650
CREATED:20251027T141059Z
LAST-MODIFIED:20251208T180535Z
UID:10000280-1771265700-1771272000@sitstaynplay.net
SUMMARY:UKI Agility Trial
DESCRIPTION:Join us for an evening filled with fun\, focus\, and wagging tails as teams take on the challenge of the UKI Agility courses. Whether you’re running for personal bests or simply enjoying the time spent with your dog\, this trial is a great way to celebrate progress and connection. \nWe look forward to seeing you and your dog enjoy the courses — because every wagging tail milestone deserves to be celebrated. \nWe will be offering Gambler and Snooker for all levels. \nEntries close on February 8\, 2026. \nPremium:  February Premium
URL:https://sitstaynplay.net/event/uki-agility-trial-9/
CATEGORIES:Agility,In House,Trial
ATTACH;FMTTYPE=image/png:https://sitstaynplay.net/wp-content/uploads/UKI-1.png
END:VEVENT
BEGIN:VEVENT
DTSTART;TZID=America/New_York:20260223T181500
DTEND;TZID=America/New_York:20260223T200000
DTSTAMP:20260419T090650
CREATED:20251024T140632Z
LAST-MODIFIED:20260112T155732Z
UID:10000268-1771870500-1771876800@sitstaynplay.net
SUMMARY:TDAA Agility Trial - Winter Serial Trial 1 of 2
DESCRIPTION:Kick off the new season with an evening of agility and connection. Our first Winter Serial Trial invites small-but-mighty dogs to the course for a night filled with confidence\, teamwork\, and fun. It is open to all dogs measuring 20 inches and under. Every run is a celebration of progress because training is a journey\, not a race. \nEntries: Paper entries onlyPremium: TDAA Feb 23 Premium
URL:https://sitstaynplay.net/event/tdaa-agility-trials-winter-serial-trial-1-of-2/
CATEGORIES:Agility,In House,Trial
ATTACH;FMTTYPE=image/png:https://sitstaynplay.net/wp-content/uploads/TDAAlogoorange-002.png
END:VEVENT
END:VCALENDAR