BEGIN:VCALENDAR
VERSION:2.0
PRODID:-//Sit Stay &#039;n Play - ECPv6.7.0//NONSGML v1.0//EN
CALSCALE:GREGORIAN
METHOD:PUBLISH
X-WR-CALNAME:Sit Stay &#039;n Play
X-ORIGINAL-URL:https://sitstaynplay.net
X-WR-CALDESC:Events for Sit Stay &#039;n Play
REFRESH-INTERVAL;VALUE=DURATION:PT1H
X-Robots-Tag:noindex
X-PUBLISHED-TTL:PT1H
BEGIN:VTIMEZONE
TZID:America/New_York
BEGIN:DAYLIGHT
TZOFFSETFROM:-0500
TZOFFSETTO:-0400
TZNAME:EDT
DTSTART:20260308T070000
END:DAYLIGHT
BEGIN:STANDARD
TZOFFSETFROM:-0400
TZOFFSETTO:-0500
TZNAME:EST
DTSTART:20261101T060000
END:STANDARD
END:VTIMEZONE
BEGIN:VEVENT
DTSTART;TZID=America/New_York:20260307T080000
DTEND;TZID=America/New_York:20260307T160000
DTSTAMP:20260419T102019
CREATED:20251024T140939Z
LAST-MODIFIED:20260112T160051Z
UID:10000269-1772870400-1772899200@sitstaynplay.net
SUMMARY:TDAA Agility Trial
DESCRIPTION:Spend a full day surrounded by cheering friends\, joyful dogs\, and plenty of wagging tails. This event is open to all dogs measuring 20 inches and under\, welcoming teams of every experience level to share in the fun. Whether you’re aiming for a new title or simply enjoying the sport together\, this all-day trial highlights what agility is all about – partnership\, progress\, and play. \nEntries: Paper entries onlyPremium:  TDAA March 7 Premium
URL:https://sitstaynplay.net/event/tdaa-agility-trial-march72026/
CATEGORIES:Agility,In House,Trial
ATTACH;FMTTYPE=image/png:https://sitstaynplay.net/wp-content/uploads/TDAAlogoorange-002.png
END:VEVENT
END:VCALENDAR