BEGIN:VCALENDAR
VERSION:2.0
PRODID:-//Sit Stay &#039;n Play - ECPv6.7.0//NONSGML v1.0//EN
CALSCALE:GREGORIAN
METHOD:PUBLISH
X-WR-CALNAME:Sit Stay &#039;n Play
X-ORIGINAL-URL:https://sitstaynplay.net
X-WR-CALDESC:Events for Sit Stay &#039;n Play
REFRESH-INTERVAL;VALUE=DURATION:PT1H
X-Robots-Tag:noindex
X-PUBLISHED-TTL:PT1H
BEGIN:VTIMEZONE
TZID:America/New_York
BEGIN:DAYLIGHT
TZOFFSETFROM:-0500
TZOFFSETTO:-0400
TZNAME:EDT
DTSTART:20260308T070000
END:DAYLIGHT
BEGIN:STANDARD
TZOFFSETFROM:-0400
TZOFFSETTO:-0500
TZNAME:EST
DTSTART:20261101T060000
END:STANDARD
END:VTIMEZONE
BEGIN:VEVENT
DTSTART;TZID=America/New_York:20260817T181500
DTEND;TZID=America/New_York:20260817T200000
DTSTAMP:20260419T081548
CREATED:20251024T144859Z
LAST-MODIFIED:20260202T142142Z
UID:10000275-1786990500-1786996800@sitstaynplay.net
SUMMARY:TDAA Agility Trial - Summer Serial Trial 3 of 3
DESCRIPTION:Wrap up the Summer Series with an evening of energy and enthusiasm. This event is open to all dogs measuring 20 inches and under\, offering another chance to celebrate growth\, teamwork\, and progress on the course. \nEntries: Paper entries onlyPremium:  August 17 Premium
URL:https://sitstaynplay.net/event/tdaa-agility-trial-summer-serial-trial-3-of-3/
CATEGORIES:Agility,In House,Trial
ATTACH;FMTTYPE=image/png:https://sitstaynplay.net/wp-content/uploads/TDAAlogoorange-002.png
END:VEVENT
BEGIN:VEVENT
DTSTART;TZID=America/New_York:20260912T073000
DTEND;TZID=America/New_York:20260912T160000
DTSTAMP:20260419T081548
CREATED:20251113T154214Z
LAST-MODIFIED:20251113T154910Z
UID:10000284-1789198200-1789228800@sitstaynplay.net
SUMMARY:UKI Agility Trial
DESCRIPTION:Join us for a day filled with fun\, focus\, and wagging tails as teams take on the challenge of the UKI Agility courses. Whether you’re running for personal bests or simply enjoying the time spent with your dog\, this trial is a great way to celebrate progress and connection. \nWe look forward to seeing you and your dog enjoy the courses — because every wagging tail milestone deserves to be celebrated. \nWe will be offering Snooker\, Speedstakes 1& 2\, Nursery Agility\, Agility and Gambler for all levels. \nEntries close on September 2\, 2026. \nPremium link: Coming soon
URL:https://sitstaynplay.net/event/uki-agility-trial-12/
CATEGORIES:Agility,In House,Trial
ATTACH;FMTTYPE=image/png:https://sitstaynplay.net/wp-content/uploads/UKI-1.png
END:VEVENT
BEGIN:VEVENT
DTSTART;TZID=America/New_York:20260928T181500
DTEND;TZID=America/New_York:20260928T200000
DTSTAMP:20260419T081548
CREATED:20251024T145221Z
LAST-MODIFIED:20251024T145221Z
UID:10000276-1790619300-1790625600@sitstaynplay.net
SUMMARY:TDAA Agility Trial - Fall Serial Trial 1 of 2
DESCRIPTION:As the leaves begin to change\, so do the challenges on the course. Open to all dogs measuring 20 inches and under\, this Fall Serial Trial welcomes every team ready to celebrate connection\, confidence\, and camaraderie. \nEntries: Paper entries onlyPremium: Coming Soon
URL:https://sitstaynplay.net/event/tdaa-agility-trial-fall-serial-trial-1-of-2/
CATEGORIES:Agility,In House,Trial
ATTACH;FMTTYPE=image/png:https://sitstaynplay.net/wp-content/uploads/TDAAlogoorange-002.png
END:VEVENT
BEGIN:VEVENT
DTSTART;TZID=America/New_York:20261012T181500
DTEND;TZID=America/New_York:20261012T200000
DTSTAMP:20260419T081548
CREATED:20251113T154505Z
LAST-MODIFIED:20251113T154505Z
UID:10000285-1791828900-1791835200@sitstaynplay.net
SUMMARY:UKI Agility Trial
DESCRIPTION:Join us for an evening filled with fun\, focus\, and wagging tails as teams take on the challenge of the UKI Agility courses. Whether you’re running for personal bests or simply enjoying the time spent with your dog\, this trial is a great way to celebrate progress and connection. \nWe look forward to seeing you and your dog enjoy the courses — because every wagging tail milestone deserves to be celebrated. \nWe will be offering Jumping 1 & 2 for all levels. \nEntries close on October 4\, 2026. \nPremium link: Coming soon
URL:https://sitstaynplay.net/event/uki-agility-trial-13/
CATEGORIES:Agility,In House,Trial
ATTACH;FMTTYPE=image/png:https://sitstaynplay.net/wp-content/uploads/UKI-1.png
END:VEVENT
BEGIN:VEVENT
DTSTART;TZID=America/New_York:20261026T181500
DTEND;TZID=America/New_York:20261026T200000
DTSTAMP:20260419T081548
CREATED:20251024T150038Z
LAST-MODIFIED:20251024T150038Z
UID:10000277-1793038500-1793044800@sitstaynplay.net
SUMMARY:TDAA Agility Trial - Fall Serial Trial 2 of 2
DESCRIPTION:Celebrate the close of the Fall Series with an evening filled with agility and applause. This event is open to all dogs measuring 20 inches and under\, highlighting every team’s progress and the joy of training together. \nEntries: Paper entries onlyPremium: Coming Soon
URL:https://sitstaynplay.net/event/tdaa-agility-trial-fall-serial-trial-2-of-2/
CATEGORIES:Agility,In House,Trial
ATTACH;FMTTYPE=image/png:https://sitstaynplay.net/wp-content/uploads/TDAAlogoorange-002.png
END:VEVENT
BEGIN:VEVENT
DTSTART;TZID=America/New_York:20261107T073000
DTEND;TZID=America/New_York:20261107T160000
DTSTAMP:20260419T081548
CREATED:20251113T154758Z
LAST-MODIFIED:20251113T154758Z
UID:10000286-1794036600-1794067200@sitstaynplay.net
SUMMARY:UKI Agility Trial
DESCRIPTION:Join us for a day filled with fun\, focus\, and wagging tails as teams take on the challenge of the UKI Agility courses. Whether you’re running for personal bests or simply enjoying the time spent with your dog\, this trial is a great way to celebrate progress and connection. \nWe look forward to seeing you and your dog enjoy the courses — because every wagging tail milestone deserves to be celebrated. \nWe will be offering Agility\, Nursery Agility\, Jumping\, Speedstakes1 & 2 and Snooker for all levels. \nEntries close on October 28\, 2026. \nPremium link: Coming soon
URL:https://sitstaynplay.net/event/uki-agility-trial-14/
CATEGORIES:Agility,In House,Trial
ATTACH;FMTTYPE=image/png:https://sitstaynplay.net/wp-content/uploads/UKI-1.png
END:VEVENT
BEGIN:VEVENT
DTSTART;TZID=America/New_York:20261205T080000
DTEND;TZID=America/New_York:20261205T160000
DTSTAMP:20260419T081548
CREATED:20251024T150354Z
LAST-MODIFIED:20251024T150354Z
UID:10000278-1796457600-1796486400@sitstaynplay.net
SUMMARY:TDAA Agility Trial
DESCRIPTION:End the year on a high note at our final TDAA Agility Trial of 2026. Open to all dogs measuring 20 inches and under\, this special event is a celebration of teamwork\, joy\, and the friendships built along the way. \nEntries: Paper entries onlyPremium: Coming Soon
URL:https://sitstaynplay.net/event/tdaa-agility-trial-7/
CATEGORIES:Agility,In House,Trial
ATTACH;FMTTYPE=image/png:https://sitstaynplay.net/wp-content/uploads/TDAAlogoorange-002.png
END:VEVENT
END:VCALENDAR