BEGIN:VCALENDAR
VERSION:2.0
PRODID:-//Sit Stay &#039;n Play - ECPv6.7.0//NONSGML v1.0//EN
CALSCALE:GREGORIAN
METHOD:PUBLISH
X-WR-CALNAME:Sit Stay &#039;n Play
X-ORIGINAL-URL:https://sitstaynplay.net
X-WR-CALDESC:Events for Sit Stay &#039;n Play
REFRESH-INTERVAL;VALUE=DURATION:PT1H
X-Robots-Tag:noindex
X-PUBLISHED-TTL:PT1H
BEGIN:VTIMEZONE
TZID:America/New_York
BEGIN:DAYLIGHT
TZOFFSETFROM:-0500
TZOFFSETTO:-0400
TZNAME:EDT
DTSTART:20260308T070000
END:DAYLIGHT
BEGIN:STANDARD
TZOFFSETFROM:-0400
TZOFFSETTO:-0500
TZNAME:EST
DTSTART:20261101T060000
END:STANDARD
END:VTIMEZONE
BEGIN:VEVENT
DTSTART;TZID=America/New_York:20261107T073000
DTEND;TZID=America/New_York:20261107T160000
DTSTAMP:20260425T061926
CREATED:20251113T154758Z
LAST-MODIFIED:20251113T154758Z
UID:10000286-1794036600-1794067200@sitstaynplay.net
SUMMARY:UKI Agility Trial
DESCRIPTION:Join us for a day filled with fun\, focus\, and wagging tails as teams take on the challenge of the UKI Agility courses. Whether you’re running for personal bests or simply enjoying the time spent with your dog\, this trial is a great way to celebrate progress and connection. \nWe look forward to seeing you and your dog enjoy the courses — because every wagging tail milestone deserves to be celebrated. \nWe will be offering Agility\, Nursery Agility\, Jumping\, Speedstakes1 & 2 and Snooker for all levels. \nEntries close on October 28\, 2026. \nPremium link: Coming soon
URL:https://sitstaynplay.net/event/uki-agility-trial-14/
CATEGORIES:Agility,In House,Trial
ATTACH;FMTTYPE=image/png:https://sitstaynplay.net/wp-content/uploads/UKI-1.png
END:VEVENT
BEGIN:VEVENT
DTSTART;TZID=America/New_York:20261205T080000
DTEND;TZID=America/New_York:20261205T160000
DTSTAMP:20260425T061926
CREATED:20251024T150354Z
LAST-MODIFIED:20251024T150354Z
UID:10000278-1796457600-1796486400@sitstaynplay.net
SUMMARY:TDAA Agility Trial
DESCRIPTION:End the year on a high note at our final TDAA Agility Trial of 2026. Open to all dogs measuring 20 inches and under\, this special event is a celebration of teamwork\, joy\, and the friendships built along the way. \nEntries: Paper entries onlyPremium: Coming Soon
URL:https://sitstaynplay.net/event/tdaa-agility-trial-7/
CATEGORIES:Agility,In House,Trial
ATTACH;FMTTYPE=image/png:https://sitstaynplay.net/wp-content/uploads/TDAAlogoorange-002.png
END:VEVENT
END:VCALENDAR