BEGIN:VCALENDAR
VERSION:2.0
PRODID:-//Sit Stay &#039;n Play - ECPv6.7.0//NONSGML v1.0//EN
CALSCALE:GREGORIAN
METHOD:PUBLISH
X-WR-CALNAME:Sit Stay &#039;n Play
X-ORIGINAL-URL:https://sitstaynplay.net
X-WR-CALDESC:Events for Sit Stay &#039;n Play
REFRESH-INTERVAL;VALUE=DURATION:PT1H
X-Robots-Tag:noindex
X-PUBLISHED-TTL:PT1H
BEGIN:VTIMEZONE
TZID:America/New_York
BEGIN:DAYLIGHT
TZOFFSETFROM:-0500
TZOFFSETTO:-0400
TZNAME:EDT
DTSTART:20260308T070000
END:DAYLIGHT
BEGIN:STANDARD
TZOFFSETFROM:-0400
TZOFFSETTO:-0500
TZNAME:EST
DTSTART:20261101T060000
END:STANDARD
END:VTIMEZONE
BEGIN:VEVENT
DTSTART;TZID=America/New_York:20260328T100000
DTEND;TZID=America/New_York:20260328T110000
DTSTAMP:20260420T232607
CREATED:20251006T171122Z
LAST-MODIFIED:20251006T171122Z
UID:10000253-1774692000-1774695600@sitstaynplay.net
SUMMARY:FIT DOG Community Walk
DESCRIPTION:Step into spring with your best friend by your side! \nJoin us at Sit\, Stay\, ’N Play for a refreshing FIT DOG Community Walk — the perfect way to shake off winter\, stretch your legs\, and enjoy the season of new beginnings with your dog. \nTime: 10:00 AM\nLocation: Sit\, Stay\, ’N Play \nThis event is FREE\, but please register in advance so we can plan for you and your pup.\nCall (570) 872-9748. \nWhy You’ll Love It:\n🐾 Get Moving: Ease into the warmer weather with a fun\, low-pressure walk.\n💬 Meet Fellow Dog Lovers: Connect with a friendly group of people who love their dogs as much as you do.\n🌷 Enjoy the Season: Celebrate sunshine\, wagging tails\, and the simple joy of being outdoors together. \nGrab your leash\, lace up those sneakers\, and join the springtime fun at the FIT DOG Community Walk!
URL:https://sitstaynplay.net/event/fit-dog-community-walk-4/
CATEGORIES:Community,Fit Dog Walk
ATTACH;FMTTYPE=image/png:https://sitstaynplay.net/wp-content/uploads/Fit-Dog-Wal-1-2.png
END:VEVENT
END:VCALENDAR