BEGIN:VCALENDAR
VERSION:2.0
PRODID:-//Sit Stay &#039;n Play - ECPv6.7.0//NONSGML v1.0//EN
CALSCALE:GREGORIAN
METHOD:PUBLISH
X-WR-CALNAME:Sit Stay &#039;n Play
X-ORIGINAL-URL:https://sitstaynplay.net
X-WR-CALDESC:Events for Sit Stay &#039;n Play
REFRESH-INTERVAL;VALUE=DURATION:PT1H
X-Robots-Tag:noindex
X-PUBLISHED-TTL:PT1H
BEGIN:VTIMEZONE
TZID:America/New_York
BEGIN:DAYLIGHT
TZOFFSETFROM:-0500
TZOFFSETTO:-0400
TZNAME:EDT
DTSTART:20240310T070000
END:DAYLIGHT
BEGIN:STANDARD
TZOFFSETFROM:-0400
TZOFFSETTO:-0500
TZNAME:EST
DTSTART:20241103T060000
END:STANDARD
END:VTIMEZONE
BEGIN:VEVENT
DTSTART;TZID=America/New_York:20240219T181500
DTEND;TZID=America/New_York:20240219T200000
DTSTAMP:20260425T091239
CREATED:20231201T212514Z
LAST-MODIFIED:20240117T213032Z
UID:10000088-1708366500-1708372800@sitstaynplay.net
SUMMARY:UKI Trial
DESCRIPTION:We will be offering a UKI Agility trial with two rounds of Jumping for all levels.  The trial opens on December 18th and closes on February 5th. \nMore information and the premium can be found at: February UKI Trial Premium \nPlease note\, this is paper entries only\, so be sure to enter before February 5th. \nWe look forward to seeing you and your dog enjoy the game!
URL:https://sitstaynplay.net/event/uki-trial-feb-19-2024/
LOCATION:Sit\, Stay\, ‘n Play In-House\, 1501 N 5th St\, Stroudsburg\, PA\, 18360\, United States
CATEGORIES:In House,Trial
END:VEVENT
END:VCALENDAR