BEGIN:VCALENDAR
VERSION:2.0
PRODID:-//Sit Stay &#039;n Play - ECPv6.7.0//NONSGML v1.0//EN
CALSCALE:GREGORIAN
METHOD:PUBLISH
X-WR-CALNAME:Sit Stay &#039;n Play
X-ORIGINAL-URL:https://sitstaynplay.net
X-WR-CALDESC:Events for Sit Stay &#039;n Play
REFRESH-INTERVAL;VALUE=DURATION:PT1H
X-Robots-Tag:noindex
X-PUBLISHED-TTL:PT1H
BEGIN:VTIMEZONE
TZID:America/New_York
BEGIN:DAYLIGHT
TZOFFSETFROM:-0500
TZOFFSETTO:-0400
TZNAME:EDT
DTSTART:20240310T070000
END:DAYLIGHT
BEGIN:STANDARD
TZOFFSETFROM:-0400
TZOFFSETTO:-0500
TZNAME:EST
DTSTART:20241103T060000
END:STANDARD
END:VTIMEZONE
BEGIN:VEVENT
DTSTART;TZID=America/New_York:20240422T183000
DTEND;TZID=America/New_York:20240514T200000
DTSTAMP:20260425T073603
CREATED:20240423T135755Z
LAST-MODIFIED:20240423T140132Z
UID:10000162-1713810600-1715716800@sitstaynplay.net
SUMMARY:Pocono Record’s Reader’s Choice 2024
DESCRIPTION:We are excited for the return of the Pocono Record’s Reader’s Choice program for 2024. You have honored us for the past 10 years by voting for us in many categories\, including Pet Training\, Pet Store\, and Place to work to name a few. We’d be honored if you would nominate us again this year. You can do so daily. By your support\, we would move to the next round. Thank you in advance for your continued support of our local small business.
URL:https://sitstaynplay.net/event/pocono-records-readers-choice/
CATEGORIES:In House
ATTACH;FMTTYPE=image/png:https://sitstaynplay.net/wp-content/uploads/Pocono-Record-9.png
END:VEVENT
END:VCALENDAR