BEGIN:VCALENDAR
VERSION:2.0
PRODID:-//Sit Stay &#039;n Play - ECPv6.7.0//NONSGML v1.0//EN
CALSCALE:GREGORIAN
METHOD:PUBLISH
X-ORIGINAL-URL:https://sitstaynplay.net
X-WR-CALDESC:Events for Sit Stay &#039;n Play
REFRESH-INTERVAL;VALUE=DURATION:PT1H
X-Robots-Tag:noindex
X-PUBLISHED-TTL:PT1H
BEGIN:VTIMEZONE
TZID:America/New_York
BEGIN:DAYLIGHT
TZOFFSETFROM:-0500
TZOFFSETTO:-0400
TZNAME:EDT
DTSTART:20240310T070000
END:DAYLIGHT
BEGIN:STANDARD
TZOFFSETFROM:-0400
TZOFFSETTO:-0500
TZNAME:EST
DTSTART:20241103T060000
END:STANDARD
END:VTIMEZONE
BEGIN:VEVENT
DTSTART;TZID=America/New_York:20240601T073000
DTEND;TZID=America/New_York:20240601T160000
DTSTAMP:20260424T220003
CREATED:20240104T211449Z
LAST-MODIFIED:20240104T211449Z
UID:10000091-1717227000-1717257600@sitstaynplay.net
SUMMARY:UKI Trial
DESCRIPTION:We will be offering a UKI Agility Trial on Saturday\, June 1st. We will be offering the following. Agility\, Speedstakes\, Jumping\, and Snooker for all levels. The trial closes on May 18th. \nThe premium can be found online at June 1st UKI Premium \nPlease note\, that this is paper entries only\, so be sure to enter before May 18th. \nWe look forward to seeing you and your dog enjoy the game.
URL:https://sitstaynplay.net/event/uki-trial-5/
LOCATION:Sit\, Stay\, ‘n Play In-House\, 1501 N 5th St\, Stroudsburg\, PA\, 18360\, United States
CATEGORIES:In House,Trial
END:VEVENT
END:VCALENDAR