BEGIN:VCALENDAR
VERSION:2.0
PRODID:-//Sit Stay &#039;n Play - ECPv6.7.0//NONSGML v1.0//EN
CALSCALE:GREGORIAN
METHOD:PUBLISH
X-ORIGINAL-URL:https://sitstaynplay.net
X-WR-CALDESC:Events for Sit Stay &#039;n Play
REFRESH-INTERVAL;VALUE=DURATION:PT1H
X-Robots-Tag:noindex
X-PUBLISHED-TTL:PT1H
BEGIN:VTIMEZONE
TZID:America/New_York
BEGIN:DAYLIGHT
TZOFFSETFROM:-0500
TZOFFSETTO:-0400
TZNAME:EDT
DTSTART:20230312T070000
END:DAYLIGHT
BEGIN:STANDARD
TZOFFSETFROM:-0400
TZOFFSETTO:-0500
TZNAME:EST
DTSTART:20231105T060000
END:STANDARD
END:VTIMEZONE
BEGIN:VEVENT
DTSTART;TZID=America/New_York:20231009T183000
DTEND;TZID=America/New_York:20231009T200000
DTSTAMP:20260422T114601
CREATED:20230829T160054Z
LAST-MODIFIED:20231003T144221Z
UID:10000017-1696876200-1696881600@sitstaynplay.net
SUMMARY:World Cynosport Rally Seminar (WCRL)
DESCRIPTION:We are pleased to offer our first WCRL Seminar on Monday\, October 9th\, starting at 6:30 pm. \nJudge Sara Jacobs will be discussing rules and exercises for the beginner.  We will offer a mini-Level 1 course that will be scored at the end of the seminar. \nSpace is limited to 10 teams. \nRegister online at Rally Seminar
URL:https://sitstaynplay.net/event/world-cynosport-rally-seminar/
LOCATION:Sit\, Stay\, ‘n Play In-House\, 1501 N 5th St\, Stroudsburg\, PA\, 18360\, United States
CATEGORIES:In House,Seminar
ATTACH;FMTTYPE=image/png:https://sitstaynplay.net/wp-content/uploads/World-Cynosport-Rally.png
END:VEVENT
END:VCALENDAR